BEGIN:VCALENDAR
VERSION:2.0
PRODID:-//New Haven Bird Club - Connecticut - ECPv6.15.18//NONSGML v1.0//EN
CALSCALE:GREGORIAN
METHOD:PUBLISH
X-ORIGINAL-URL:https://newhavenbirdclub.org
X-WR-CALDESC:Events for New Haven Bird Club - Connecticut
REFRESH-INTERVAL;VALUE=DURATION:PT1H
X-Robots-Tag:noindex
X-PUBLISHED-TTL:PT1H
BEGIN:VTIMEZONE
TZID:America/New_York
BEGIN:DAYLIGHT
TZOFFSETFROM:-0500
TZOFFSETTO:-0400
TZNAME:EDT
DTSTART:20250309T070000
END:DAYLIGHT
BEGIN:STANDARD
TZOFFSETFROM:-0400
TZOFFSETTO:-0500
TZNAME:EST
DTSTART:20251102T060000
END:STANDARD
BEGIN:DAYLIGHT
TZOFFSETFROM:-0500
TZOFFSETTO:-0400
TZNAME:EDT
DTSTART:20260308T070000
END:DAYLIGHT
BEGIN:STANDARD
TZOFFSETFROM:-0400
TZOFFSETTO:-0500
TZNAME:EST
DTSTART:20261101T060000
END:STANDARD
BEGIN:DAYLIGHT
TZOFFSETFROM:-0500
TZOFFSETTO:-0400
TZNAME:EDT
DTSTART:20270314T070000
END:DAYLIGHT
BEGIN:STANDARD
TZOFFSETFROM:-0400
TZOFFSETTO:-0500
TZNAME:EST
DTSTART:20271107T060000
END:STANDARD
END:VTIMEZONE
BEGIN:VEVENT
DTSTART;TZID=America/New_York:20260221T080000
DTEND;TZID=America/New_York:20260221T110000
DTSTAMP:20260423T175213
CREATED:20260112T200826Z
LAST-MODIFIED:20260220T195619Z
UID:10000011-1771660800-1771671600@newhavenbirdclub.org
SUMMARY:CANCELLED: Field Trip – White Memorial Foundation: Birding and Tracking – Craig Repasz
DESCRIPTION:**Please note: This event has been cancelled. \nWhite Memorial Foundation is a 4\,000-acre nature preserve. The diverse mixture of habitats includes mature deciduous and evergreen forests\, as well as fields of tall grass\, weeds\, and shrubs that are managed for various stages of succession. One of the best birding sites in the state and an Important Bird Area\, White Memorial Foundation has approximately 35 miles of woodland roads\, trails\, and boardwalks. We could observe a variety of sparrows\, woodpeckers\, possibly winter finches\, owls and more. We will be joined by experienced trackers Christin Arnini and Gail Cameron. Mammals that reside at White Memorial such as otters\, beavers\, bobcats\, foxes\, deer\, coyotes\, and mink are active in the winter and leave clues about their travels and ways of surviving this most difficult time of the year. \nMeet in the public parking lot at White Memorial at 80 Whitehall Road in Litchfield. \nLeader: Craig Repasz\, 203-745-6683 or crepasz@hotmail.com
URL:https://newhavenbirdclub.org/event/field-trip-white-memorial-foundation-birding-and-tracking-craig-repasz/
LOCATION:White Memorial Conservation Center\, 80 Whitehall Rd\, Litchfield\, CT\, 06759\, United States
CATEGORIES:Walks
END:VEVENT
END:VCALENDAR