BEGIN:VCALENDAR
VERSION:2.0
PRODID:-//New Haven Bird Club - Connecticut - ECPv6.15.18//NONSGML v1.0//EN
CALSCALE:GREGORIAN
METHOD:PUBLISH
X-WR-CALNAME:New Haven Bird Club - Connecticut
X-ORIGINAL-URL:https://newhavenbirdclub.org
X-WR-CALDESC:Events for New Haven Bird Club - Connecticut
REFRESH-INTERVAL;VALUE=DURATION:PT1H
X-Robots-Tag:noindex
X-PUBLISHED-TTL:PT1H
BEGIN:VTIMEZONE
TZID:America/New_York
BEGIN:DAYLIGHT
TZOFFSETFROM:-0500
TZOFFSETTO:-0400
TZNAME:EDT
DTSTART:20250309T070000
END:DAYLIGHT
BEGIN:STANDARD
TZOFFSETFROM:-0400
TZOFFSETTO:-0500
TZNAME:EST
DTSTART:20251102T060000
END:STANDARD
BEGIN:DAYLIGHT
TZOFFSETFROM:-0500
TZOFFSETTO:-0400
TZNAME:EDT
DTSTART:20260308T070000
END:DAYLIGHT
BEGIN:STANDARD
TZOFFSETFROM:-0400
TZOFFSETTO:-0500
TZNAME:EST
DTSTART:20261101T060000
END:STANDARD
BEGIN:DAYLIGHT
TZOFFSETFROM:-0500
TZOFFSETTO:-0400
TZNAME:EDT
DTSTART:20270314T070000
END:DAYLIGHT
BEGIN:STANDARD
TZOFFSETFROM:-0400
TZOFFSETTO:-0500
TZNAME:EST
DTSTART:20271107T060000
END:STANDARD
END:VTIMEZONE
BEGIN:VEVENT
DTSTART;TZID=America/New_York:20260614T080000
DTEND;TZID=America/New_York:20260614T110000
DTSTAMP:20260425T093416
CREATED:20260114T190124Z
LAST-MODIFIED:20260114T190432Z
UID:10000015-1781424000-1781434800@newhavenbirdclub.org
SUMMARY:Field Trip - Mendell's Folly and Van Epps Preserve\, Bethany - John Triana and Christin Arnini
DESCRIPTION:REGISTRATION REQUIRED by June 10\, 2026 \nJoin the Bethany Land Trust and NHBC for a vigorous birding walk on the trails of several of the Bethany Land Trust’s parcels. The properties include a variety of habitats including wetland\, field\, upland deciduous and hemlock forest sections with rocky ledges\, and streams. Expect some steep and rocky areas with rough terrain and uneven and wet footing. Wear appropriate footwear and tick-proof clothing. Bring water. Inclement weather cancels. \nMeet at the roadside parking area at the Van Epps Preserve at 390 Beacon Road (route 42) in Bethany. Off road parking behind the gate is also available. \nTO REGISTER\, contact Bethany Land Trust Trails Chair\, Bob Harrison\, by Friday June 10\, 2026\, via cell 203-506-5888 or bjh51box@gmail.com. Walk will be limited to 20 participants. \nLeaders: John Triana\, 203-758-7203 or jtriana1@rwater.com; Christin Arnini\, 203-671-5567 or cevea55@gmail.com
URL:https://newhavenbirdclub.org/event/field-trip-mendells-folly-and-van-epps-preserve-bethany-john-triana-and-christin-arnini/
LOCATION:Van Epps Preserve\, Bethany\, 390 Beacon Road\, Bethany\, CT\, United States
CATEGORIES:Walks
END:VEVENT
END:VCALENDAR