BEGIN:VCALENDAR
VERSION:2.0
PRODID:-//New Haven Bird Club - Connecticut - ECPv6.15.18//NONSGML v1.0//EN
CALSCALE:GREGORIAN
METHOD:PUBLISH
X-WR-CALNAME:New Haven Bird Club - Connecticut
X-ORIGINAL-URL:https://newhavenbirdclub.org
X-WR-CALDESC:Events for New Haven Bird Club - Connecticut
REFRESH-INTERVAL;VALUE=DURATION:PT1H
X-Robots-Tag:noindex
X-PUBLISHED-TTL:PT1H
BEGIN:VTIMEZONE
TZID:America/New_York
BEGIN:DAYLIGHT
TZOFFSETFROM:-0500
TZOFFSETTO:-0400
TZNAME:EDT
DTSTART:20250309T070000
END:DAYLIGHT
BEGIN:STANDARD
TZOFFSETFROM:-0400
TZOFFSETTO:-0500
TZNAME:EST
DTSTART:20251102T060000
END:STANDARD
BEGIN:DAYLIGHT
TZOFFSETFROM:-0500
TZOFFSETTO:-0400
TZNAME:EDT
DTSTART:20260308T070000
END:DAYLIGHT
BEGIN:STANDARD
TZOFFSETFROM:-0400
TZOFFSETTO:-0500
TZNAME:EST
DTSTART:20261101T060000
END:STANDARD
BEGIN:DAYLIGHT
TZOFFSETFROM:-0500
TZOFFSETTO:-0400
TZNAME:EDT
DTSTART:20270314T070000
END:DAYLIGHT
BEGIN:STANDARD
TZOFFSETFROM:-0400
TZOFFSETTO:-0500
TZNAME:EST
DTSTART:20271107T060000
END:STANDARD
END:VTIMEZONE
BEGIN:VEVENT
DTSTART;TZID=America/New_York:20260114T080000
DTEND;TZID=America/New_York:20260114T110000
DTSTAMP:20260423T175119
CREATED:20260112T200356Z
LAST-MODIFIED:20260112T210743Z
UID:10000009-1768377600-1768388400@newhavenbirdclub.org
SUMMARY:Field Trip – First Wednesday Walk: Sherwood Island State Park\, Westport – Tina Green
DESCRIPTION:Rescheduled from 1/7/26! \nJoin a midweek trip to this outstanding Long Island Sound birding spot. We check for loons\, grebes\, goldeneye\, and other sea ducks. The fields are a good place to look for Snow Buntings\, Horned Larks\, and sparrows. \nMeet at Sherwood Island State Park: take Exit 18 off I-95 in Westport and head south on the Sherwood Island Connector. Drive into the park and meet at the main parking lot. \nLeader: Tina Green\, 203-247-2660 or tina@renaissancestudios.com
URL:https://newhavenbirdclub.org/event/field-trip-first-wednesday-walk-sherwood-island-state-park-westport-tina-green/
LOCATION:Sherwood Island State Park\, Sherwood Island State Park\, Westport\, CT\, 06880\, United States
CATEGORIES:Walks
END:VEVENT
END:VCALENDAR