BEGIN:VCALENDAR
VERSION:2.0
PRODID:-//New Haven Bird Club - Connecticut - ECPv6.15.18//NONSGML v1.0//EN
CALSCALE:GREGORIAN
METHOD:PUBLISH
X-WR-CALNAME:New Haven Bird Club - Connecticut
X-ORIGINAL-URL:https://newhavenbirdclub.org
X-WR-CALDESC:Events for New Haven Bird Club - Connecticut
REFRESH-INTERVAL;VALUE=DURATION:PT1H
X-Robots-Tag:noindex
X-PUBLISHED-TTL:PT1H
BEGIN:VTIMEZONE
TZID:America/New_York
BEGIN:DAYLIGHT
TZOFFSETFROM:-0500
TZOFFSETTO:-0400
TZNAME:EDT
DTSTART:20250309T070000
END:DAYLIGHT
BEGIN:STANDARD
TZOFFSETFROM:-0400
TZOFFSETTO:-0500
TZNAME:EST
DTSTART:20251102T060000
END:STANDARD
BEGIN:DAYLIGHT
TZOFFSETFROM:-0500
TZOFFSETTO:-0400
TZNAME:EDT
DTSTART:20260308T070000
END:DAYLIGHT
BEGIN:STANDARD
TZOFFSETFROM:-0400
TZOFFSETTO:-0500
TZNAME:EST
DTSTART:20261101T060000
END:STANDARD
BEGIN:DAYLIGHT
TZOFFSETFROM:-0500
TZOFFSETTO:-0400
TZNAME:EDT
DTSTART:20270314T070000
END:DAYLIGHT
BEGIN:STANDARD
TZOFFSETFROM:-0400
TZOFFSETTO:-0500
TZNAME:EST
DTSTART:20271107T060000
END:STANDARD
END:VTIMEZONE
BEGIN:VEVENT
DTSTART;TZID=America/New_York:20260517T070000
DTEND;TZID=America/New_York:20260517T120000
DTSTAMP:20260425T090701
CREATED:20260114T192358Z
LAST-MODIFIED:20260114T192416Z
UID:10000024-1779001200-1779019200@newhavenbirdclub.org
SUMMARY:Field Trip - Naugatuck State Forest\, Naugatuck - Chris Loscalzo
DESCRIPTION:Join us at the peak of spring migration on this moderately strenuous hike in a fine birding location. We’ll search for migrants and residents. We often see more than 15 species of warblers on this trip\, including resident Hooded\, Chestnut-sided\, Prairie\, and Worm-eating Warblers. Yellow-bellied Sapsuckers\, Scarlet Tanagers\, Rose-breasted Grosbeaks\, Blue-gray Gnatcatchers\, and many other birds are residents here\, too. \nMeet at the commuter lot at Exit 24 off Route 8\, Naugatuck. \nLeader: Chris Loscalzo\, 203-214-3473 or closcalz@optonline.net
URL:https://newhavenbirdclub.org/event/field-trip-naugatuck-state-forest-naugatuck-chris-loscalzo/
LOCATION:Rt 8 Exit 24 Commuter Parking Lot\, FX92+MF\, Naugatuck\, CT\, United States
CATEGORIES:Walks
END:VEVENT
END:VCALENDAR