BEGIN:VCALENDAR
VERSION:2.0
PRODID:-//New Haven Bird Club - Connecticut - ECPv6.15.18//NONSGML v1.0//EN
CALSCALE:GREGORIAN
METHOD:PUBLISH
X-ORIGINAL-URL:https://newhavenbirdclub.org
X-WR-CALDESC:Events for New Haven Bird Club - Connecticut
REFRESH-INTERVAL;VALUE=DURATION:PT1H
X-Robots-Tag:noindex
X-PUBLISHED-TTL:PT1H
BEGIN:VTIMEZONE
TZID:America/New_York
BEGIN:DAYLIGHT
TZOFFSETFROM:-0500
TZOFFSETTO:-0400
TZNAME:EDT
DTSTART:20250309T070000
END:DAYLIGHT
BEGIN:STANDARD
TZOFFSETFROM:-0400
TZOFFSETTO:-0500
TZNAME:EST
DTSTART:20251102T060000
END:STANDARD
BEGIN:DAYLIGHT
TZOFFSETFROM:-0500
TZOFFSETTO:-0400
TZNAME:EDT
DTSTART:20260308T070000
END:DAYLIGHT
BEGIN:STANDARD
TZOFFSETFROM:-0400
TZOFFSETTO:-0500
TZNAME:EST
DTSTART:20261101T060000
END:STANDARD
BEGIN:DAYLIGHT
TZOFFSETFROM:-0500
TZOFFSETTO:-0400
TZNAME:EDT
DTSTART:20270314T070000
END:DAYLIGHT
BEGIN:STANDARD
TZOFFSETFROM:-0400
TZOFFSETTO:-0500
TZNAME:EST
DTSTART:20271107T060000
END:STANDARD
END:VTIMEZONE
BEGIN:VEVENT
DTSTART;TZID=America/New_York:20260603T080000
DTEND;TZID=America/New_York:20260603T110000
DTSTAMP:20260425T091044
CREATED:20260114T191050Z
LAST-MODIFIED:20260114T191057Z
UID:10000017-1780473600-1780484400@newhavenbirdclub.org
SUMMARY:Field Trip - First Wednesday Walk: Mohawk Mountain State Park - Jack Swatt
DESCRIPTION:Join  us as we explore the birds in this scenic and spacious forest in the northern part of the state. Nesting species here include Blue-headed Vireo\, Hermit Thrush\, Canada Warbler\, and Black-throated Blue Warbler. Mostly easy walking\, with carpooling between sites. \nMeet at the entrance to Mohawk Mountain State Park on Route 4 in Cornwall\, four miles west of Goshen. \nLeader: Jack Swatt\, 203-592-4686 or jswattbirds@gmail.com
URL:https://newhavenbirdclub.org/event/field-trip-first-wednesday-walk-mohawk-mountain-state-park-jack-swatt/
LOCATION:Mohawk Mountain State Park\, Cornwall\, Mohawk Mountain State Park\, Cornwall\, CT\, United States
CATEGORIES:Walks
END:VEVENT
END:VCALENDAR