BEGIN:VCALENDAR
VERSION:2.0
PRODID:-//New Haven Bird Club - Connecticut - ECPv6.15.18//NONSGML v1.0//EN
CALSCALE:GREGORIAN
METHOD:PUBLISH
X-ORIGINAL-URL:https://newhavenbirdclub.org
X-WR-CALDESC:Events for New Haven Bird Club - Connecticut
REFRESH-INTERVAL;VALUE=DURATION:PT1H
X-Robots-Tag:noindex
X-PUBLISHED-TTL:PT1H
BEGIN:VTIMEZONE
TZID:America/New_York
BEGIN:DAYLIGHT
TZOFFSETFROM:-0500
TZOFFSETTO:-0400
TZNAME:EDT
DTSTART:20250309T070000
END:DAYLIGHT
BEGIN:STANDARD
TZOFFSETFROM:-0400
TZOFFSETTO:-0500
TZNAME:EST
DTSTART:20251102T060000
END:STANDARD
BEGIN:DAYLIGHT
TZOFFSETFROM:-0500
TZOFFSETTO:-0400
TZNAME:EDT
DTSTART:20260308T070000
END:DAYLIGHT
BEGIN:STANDARD
TZOFFSETFROM:-0400
TZOFFSETTO:-0500
TZNAME:EST
DTSTART:20261101T060000
END:STANDARD
BEGIN:DAYLIGHT
TZOFFSETFROM:-0500
TZOFFSETTO:-0400
TZNAME:EDT
DTSTART:20270314T070000
END:DAYLIGHT
BEGIN:STANDARD
TZOFFSETFROM:-0400
TZOFFSETTO:-0500
TZNAME:EST
DTSTART:20271107T060000
END:STANDARD
END:VTIMEZONE
BEGIN:VEVENT
DTSTART;TZID=America/New_York:20260304T080000
DTEND;TZID=America/New_York:20260304T110000
DTSTAMP:20260423T194427
CREATED:20260114T194618Z
LAST-MODIFIED:20260114T194658Z
UID:10000038-1772611200-1772622000@newhavenbirdclub.org
SUMMARY:Field Trip - First Wednesday Walk: Stratford Shore & Great Meadows - Frank Mantlik
DESCRIPTION:Join us on a visit to this excellent birding area. We’ll look for waterbirds\, such as Long-tailed Duck and scoters\, as well as raptors and shorebirds. \nMeet at the Dunkin Donuts parking lot at 60 Access Road\, Stratford\, near the intersection with Main Street (Route 113); we carpool from there. \nLeader: Frank Mantlik\, 203-984-9410 or mantlik@sbcglobal.net
URL:https://newhavenbirdclub.org/event/field-trip-first-wednesday-walk-stratford-shore-great-meadows-frank-mantlik/
LOCATION:Dunkin Donuts – Frash Pond\, Stratford\, 60 Access Road\, Stratford\, CT\, United States
CATEGORIES:Walks
END:VEVENT
END:VCALENDAR