BEGIN:VCALENDAR
VERSION:2.0
PRODID:-//New Haven Bird Club - Connecticut - ECPv6.15.18//NONSGML v1.0//EN
CALSCALE:GREGORIAN
METHOD:PUBLISH
X-ORIGINAL-URL:https://newhavenbirdclub.org
X-WR-CALDESC:Events for New Haven Bird Club - Connecticut
REFRESH-INTERVAL;VALUE=DURATION:PT1H
X-Robots-Tag:noindex
X-PUBLISHED-TTL:PT1H
BEGIN:VTIMEZONE
TZID:America/New_York
BEGIN:DAYLIGHT
TZOFFSETFROM:-0500
TZOFFSETTO:-0400
TZNAME:EDT
DTSTART:20250309T070000
END:DAYLIGHT
BEGIN:STANDARD
TZOFFSETFROM:-0400
TZOFFSETTO:-0500
TZNAME:EST
DTSTART:20251102T060000
END:STANDARD
BEGIN:DAYLIGHT
TZOFFSETFROM:-0500
TZOFFSETTO:-0400
TZNAME:EDT
DTSTART:20260308T070000
END:DAYLIGHT
BEGIN:STANDARD
TZOFFSETFROM:-0400
TZOFFSETTO:-0500
TZNAME:EST
DTSTART:20261101T060000
END:STANDARD
BEGIN:DAYLIGHT
TZOFFSETFROM:-0500
TZOFFSETTO:-0400
TZNAME:EDT
DTSTART:20270314T070000
END:DAYLIGHT
BEGIN:STANDARD
TZOFFSETFROM:-0400
TZOFFSETTO:-0500
TZNAME:EST
DTSTART:20271107T060000
END:STANDARD
END:VTIMEZONE
BEGIN:VEVENT
DTSTART;TZID=America/New_York:20260620T080000
DTEND;TZID=America/New_York:20260620T110000
DTSTAMP:20260425T091243
CREATED:20260114T185927Z
LAST-MODIFIED:20260114T185934Z
UID:10000014-1781942400-1781953200@newhavenbirdclub.org
SUMMARY:Field Trip - Brooksvale Park\, Hamden - Alan Malina and DeWitt Allen
DESCRIPTION:Brooksvale is a city park with a small barnyard for children. The rest of the park features a tree-lined pond and streams\, deep woods\, field/wood edges\, and a large weedy field with bluebird/swallow boxes and an array of bird-attracting feeders at a private residence just beyond the park. There is also easy access to the Farmington Canal Greenway Trail. Join us to look for raptors and nesting birds that share the various habitats. \nMeet in the large unpaved parking lot\, just south of the Barnyard main entrance. \nLeaders: Alan Malina\, 203-606-0437 or alm5565@msn.com; DeWitt Allen\, 860-949-0995 or allendatlow@gmail.com
URL:https://newhavenbirdclub.org/event/field-trip-brooksvale-park-hamden-alan-malina-and-dewitt-allen/
LOCATION:Brooksvale Park\, Hamden\, 524 Brooksvale Ave\, Hamden\, CT\, United States
CATEGORIES:Walks
END:VEVENT
END:VCALENDAR