BEGIN:VCALENDAR
VERSION:2.0
PRODID:-//New Haven Bird Club - Connecticut - ECPv6.15.18//NONSGML v1.0//EN
CALSCALE:GREGORIAN
METHOD:PUBLISH
X-ORIGINAL-URL:https://newhavenbirdclub.org
X-WR-CALDESC:Events for New Haven Bird Club - Connecticut
REFRESH-INTERVAL;VALUE=DURATION:PT1H
X-Robots-Tag:noindex
X-PUBLISHED-TTL:PT1H
BEGIN:VTIMEZONE
TZID:America/New_York
BEGIN:DAYLIGHT
TZOFFSETFROM:-0500
TZOFFSETTO:-0400
TZNAME:EDT
DTSTART:20250309T070000
END:DAYLIGHT
BEGIN:STANDARD
TZOFFSETFROM:-0400
TZOFFSETTO:-0500
TZNAME:EST
DTSTART:20251102T060000
END:STANDARD
BEGIN:DAYLIGHT
TZOFFSETFROM:-0500
TZOFFSETTO:-0400
TZNAME:EDT
DTSTART:20260308T070000
END:DAYLIGHT
BEGIN:STANDARD
TZOFFSETFROM:-0400
TZOFFSETTO:-0500
TZNAME:EST
DTSTART:20261101T060000
END:STANDARD
BEGIN:DAYLIGHT
TZOFFSETFROM:-0500
TZOFFSETTO:-0400
TZNAME:EDT
DTSTART:20270314T070000
END:DAYLIGHT
BEGIN:STANDARD
TZOFFSETFROM:-0400
TZOFFSETTO:-0500
TZNAME:EST
DTSTART:20271107T060000
END:STANDARD
END:VTIMEZONE
BEGIN:VEVENT
DTSTART;TZID=America/New_York:20260121T180000
DTEND;TZID=America/New_York:20260121T190000
DTSTAMP:20260423T182453
CREATED:20260112T212353Z
LAST-MODIFIED:20260121T192856Z
UID:10000012-1769018400-1769022000@newhavenbirdclub.org
SUMMARY:Birds in Words Book Club Meeting
DESCRIPTION:The New Haven Bird Club is excited to announce that our book club\, “Birds in Words” is flying again! For our take-off let’s read and discuss this thought-provoking essay: \n Feathered Messengers from Deep Time\n https://theconversation.com/friday-essay-on-birds-feathered-messengers-from-deep-time-168469 \nWe will also discuss a book list\, how frequently we should meet\, where and when we should meet and other details. People can purchase wine\, coffee\, tea\, and snacks before we get started. \nWednesday\, January 21\, 2026\n6:00 pm to 7:00 pm\nBest Video Film and Culture Center\, 1842 Whitney Ave Hamden CT 06517\nCoordinators: Meredith Barges and Craig Repasz \nPlease let us know you are coming! Email Craig at craigr@newhavenbirdclub.org.
URL:https://newhavenbirdclub.org/event/birds-in-words-book-club-meeting/
LOCATION:Best Video Film & Cultural Center\, 1842 Whitney Ave\, Hamden\, CT\, 06517\, United States
CATEGORIES:Book Discussion Group
END:VEVENT
END:VCALENDAR