BEGIN:VCALENDAR
VERSION:2.0
PRODID:-//New Haven Bird Club - Connecticut - ECPv6.15.18//NONSGML v1.0//EN
CALSCALE:GREGORIAN
METHOD:PUBLISH
X-WR-CALNAME:New Haven Bird Club - Connecticut
X-ORIGINAL-URL:https://newhavenbirdclub.org
X-WR-CALDESC:Events for New Haven Bird Club - Connecticut
REFRESH-INTERVAL;VALUE=DURATION:PT1H
X-Robots-Tag:noindex
X-PUBLISHED-TTL:PT1H
BEGIN:VTIMEZONE
TZID:America/New_York
BEGIN:DAYLIGHT
TZOFFSETFROM:-0500
TZOFFSETTO:-0400
TZNAME:EDT
DTSTART:20240310T070000
END:DAYLIGHT
BEGIN:STANDARD
TZOFFSETFROM:-0400
TZOFFSETTO:-0500
TZNAME:EST
DTSTART:20241103T060000
END:STANDARD
BEGIN:DAYLIGHT
TZOFFSETFROM:-0500
TZOFFSETTO:-0400
TZNAME:EDT
DTSTART:20250309T070000
END:DAYLIGHT
BEGIN:STANDARD
TZOFFSETFROM:-0400
TZOFFSETTO:-0500
TZNAME:EST
DTSTART:20251102T060000
END:STANDARD
BEGIN:DAYLIGHT
TZOFFSETFROM:-0500
TZOFFSETTO:-0400
TZNAME:EDT
DTSTART:20260308T070000
END:DAYLIGHT
BEGIN:STANDARD
TZOFFSETFROM:-0400
TZOFFSETTO:-0500
TZNAME:EST
DTSTART:20261101T060000
END:STANDARD
END:VTIMEZONE
BEGIN:VEVENT
DTSTART;TZID=America/New_York:20251203T080000
DTEND;TZID=America/New_York:20251203T110000
DTSTAMP:20260423T192411
CREATED:20251113T163503Z
LAST-MODIFIED:20251113T163601Z
UID:10000002-1764748800-1764759600@newhavenbirdclub.org
SUMMARY:Field Trip – First Wednesday Walk: Hammonasset Beach State Park\, Madison
DESCRIPTION:At any time of year\, Hammonasset is a true gem. Enjoy a mid-week trip to explore this birding hotspot for fall migrants. The varied habitat attracts shorebirds\, waterfowl\, raptors\, and songbirds. \nMeet outside the park at the Shoreline Greenway Trail parking area on Boston Post Road\, Madison\, just east of the park’s main entrance road. \nLeader: Jerry Connolly\, 203-710-2011 or birdshop@sbcglobal.net
URL:https://newhavenbirdclub.org/event/field-trip-first-wednesday-walk-hammonasset-beach-state-park-madison/
LOCATION:CT
CATEGORIES:Walks
END:VEVENT
END:VCALENDAR