BEGIN:VCALENDAR
VERSION:2.0
PRODID:-//New Haven Bird Club - Connecticut - ECPv6.15.18//NONSGML v1.0//EN
CALSCALE:GREGORIAN
METHOD:PUBLISH
X-ORIGINAL-URL:https://newhavenbirdclub.org
X-WR-CALDESC:Events for New Haven Bird Club - Connecticut
REFRESH-INTERVAL;VALUE=DURATION:PT1H
X-Robots-Tag:noindex
X-PUBLISHED-TTL:PT1H
BEGIN:VTIMEZONE
TZID:America/New_York
BEGIN:DAYLIGHT
TZOFFSETFROM:-0500
TZOFFSETTO:-0400
TZNAME:EDT
DTSTART:20250309T070000
END:DAYLIGHT
BEGIN:STANDARD
TZOFFSETFROM:-0400
TZOFFSETTO:-0500
TZNAME:EST
DTSTART:20251102T060000
END:STANDARD
BEGIN:DAYLIGHT
TZOFFSETFROM:-0500
TZOFFSETTO:-0400
TZNAME:EDT
DTSTART:20260308T070000
END:DAYLIGHT
BEGIN:STANDARD
TZOFFSETFROM:-0400
TZOFFSETTO:-0500
TZNAME:EST
DTSTART:20261101T060000
END:STANDARD
BEGIN:DAYLIGHT
TZOFFSETFROM:-0500
TZOFFSETTO:-0400
TZNAME:EDT
DTSTART:20270314T070000
END:DAYLIGHT
BEGIN:STANDARD
TZOFFSETFROM:-0400
TZOFFSETTO:-0500
TZNAME:EST
DTSTART:20271107T060000
END:STANDARD
END:VTIMEZONE
BEGIN:VEVENT
DTSTART;TZID=America/New_York:20260629T183000
DTEND;TZID=America/New_York:20260629T200000
DTSTAMP:20260423T192808
CREATED:20260226T190154Z
LAST-MODIFIED:20260226T190254Z
UID:10000044-1782757800-1782763200@newhavenbirdclub.org
SUMMARY:Book Club - Monday\, June 29\, 2026 at Mitchell Library
DESCRIPTION:The “Birds in Words” book club will meet on Monday\, June 29\, 2026 from 6:30 to 8:00 pm at the Mitchell Library in New Haven. \nThe club will discuss Lorna Gibson’s Birds Up Close: An Engineer Explores Their Hidden Wonders. \nFeel free to bring snacks to enjoy and share! \nAny questions\, contact Craig Repasz at craigr@newhavenbirdclub.org.
URL:https://newhavenbirdclub.org/event/book-club-monday-june-29-2026-at-mitchell-library/
LOCATION:Mitchell Branch – New Haven Public Library\, 37 Harrison Street\, New Haven\, CT\, 06515\, United States
CATEGORIES:Book Discussion Group
END:VEVENT
BEGIN:VEVENT
DTSTART;TZID=America/New_York:20260719T073000
DTEND;TZID=America/New_York:20260719T113000
DTSTAMP:20260423T192808
CREATED:20260114T185715Z
LAST-MODIFIED:20260114T185728Z
UID:10000013-1784446200-1784460600@newhavenbirdclub.org
SUMMARY:Field Trip - Peoples State Forest\, Barkhamsted - Paul Mahler and Michele McDermott
DESCRIPTION:Peoples State Forest spans over 3\,000 acres of diverse habitats and features 14 miles of trails\, yet it has been infrequently birded over the years. Join us as we explore various hotspots within the forest. Species we’re likely to encounter include: Blackburnian\, Canada\, Black-throated Blue\, and Black-throated Green Warblers\, Northern Waterthrush\, Ovenbirds\, Red-breasted Nuthatches\, Scarlet Tanagers\, Least and Alder Flycatchers\, Winter Wrens\, and more. Great Horned and Barred Owls\, along with Broad-winged Hawks\, also nest within the forest. Please note: the forest can be quite buggy in summer. Mosquito nets and/or generous use of bug spray are highly recommended. We will drive to several locations and walk approximately 2–3 miles throughout the morning. Terrain will include boardwalks\, rocky access roads\, and forest trails with many stumps and roots — please plan footwear and mobility accordingly. \nMeet at Matthies Grove (106 East River Road\, Barkhamsted). Meet in front of the pavilion to the left of the entrance. Due to limited parking at other spots in the forest\, we will carpool from there. \nLeaders: Paul Mahler\, 860-459-6942; \nMichele McDermott\, 860-485-3087
URL:https://newhavenbirdclub.org/event/field-trip-peoples-state-forest-barkhamsted-paul-mahler-and-michele-mcdermott/
LOCATION:Matthies Grove – Peoples State Forest\, Barkhamsted\, 106 E. River Road\, Barkhamsted\, CT\, United States
CATEGORIES:Walks
END:VEVENT
BEGIN:VEVENT
DTSTART;VALUE=DATE:20261010
DTEND;VALUE=DATE:20261012
DTSTAMP:20260423T192808
CREATED:20251125T184654Z
LAST-MODIFIED:20251125T184654Z
UID:10000005-1791590400-1791763199@newhavenbirdclub.org
SUMMARY:The Big Sit!™ 2026
DESCRIPTION:Yes\, The Big Sit!® is on!\nThe Big Sit! is on! And has migrated back to the New Haven Bird Club\, where it began in 1992. Although there are a few changes\, most stays the same\, including the primary rule: HAVE FUN! The Big Sit is a semi-competitive birding event originated by the New Haven Bird Club. It is open and FREE to anyone (individuals and teams) all over the world! How many birds can you identify in one day while staying within a 17-foot / 5.2-meter diameter circle? That’s the challenge of The Big Sit! \nFinal dates/times and registration will be announced in 2026! Visit the Big Sit website for more information. \nThe Big Sit!™ is a registered trademark of the New Haven Bird Club\, Inc.
URL:https://newhavenbirdclub.org/event/the-big-sit-2026/
LOCATION:CT
ORGANIZER;CN="New Haven Bird Club":MAILTO:ask@newhavenbirdclub.org
END:VEVENT
END:VCALENDAR